BEGIN:VCALENDAR
VERSION:2.0
PRODID:-//Krav Maga Team RG - ECPv6.15.17//NONSGML v1.0//EN
CALSCALE:GREGORIAN
METHOD:PUBLISH
X-WR-CALNAME:Krav Maga Team RG
X-ORIGINAL-URL:https://kravmaga-teamrg.com
X-WR-CALDESC:Évènements pour Krav Maga Team RG
REFRESH-INTERVAL;VALUE=DURATION:PT1H
X-Robots-Tag:noindex
X-PUBLISHED-TTL:PT1H
BEGIN:VTIMEZONE
TZID:Europe/Paris
BEGIN:DAYLIGHT
TZOFFSETFROM:+0100
TZOFFSETTO:+0200
TZNAME:CEST
DTSTART:20250330T010000
END:DAYLIGHT
BEGIN:STANDARD
TZOFFSETFROM:+0200
TZOFFSETTO:+0100
TZNAME:CET
DTSTART:20251026T010000
END:STANDARD
BEGIN:DAYLIGHT
TZOFFSETFROM:+0100
TZOFFSETTO:+0200
TZNAME:CEST
DTSTART:20260329T010000
END:DAYLIGHT
BEGIN:STANDARD
TZOFFSETFROM:+0200
TZOFFSETTO:+0100
TZNAME:CET
DTSTART:20261025T010000
END:STANDARD
BEGIN:DAYLIGHT
TZOFFSETFROM:+0100
TZOFFSETTO:+0200
TZNAME:CEST
DTSTART:20270328T010000
END:DAYLIGHT
BEGIN:STANDARD
TZOFFSETFROM:+0200
TZOFFSETTO:+0100
TZNAME:CET
DTSTART:20271031T010000
END:STANDARD
END:VTIMEZONE
BEGIN:VEVENT
DTSTART;TZID=Europe/Paris:20260327T100000
DTEND;TZID=Europe/Paris:20260329T180000
DTSTAMP:20260424T141705
CREATED:20260322T133722Z
LAST-MODIFIED:20260322T133722Z
UID:19292-1774605600-1774807200@kravmaga-teamrg.com
SUMMARY:Foire de Rouen 2026 - Village Sport pour tous
DESCRIPTION:Pour la 2è année\, notre club sera présent sur le Village Sport pour Tous lors de la Foire de Rouen\, du vendredi 27 au dimanche 29 mars 2026. \nC’est une super opportunité pour faire connaître le club\, échanger avec du monde… et passer un bon moment ensemble ! \n👉 On a besoin de vous !\nSi vous êtes dispo pour venir donner un coup de main sur le stand (accueillir\, renseigner\, discuter…)\, vous êtes les bienvenus. \nPlus on est nombreux\, plus c’est convivial… et plus le temps passe vite 😄 \nMême 1h ou 2h\, c’est déjà top ! \nNos créneaux de présence :\n– Vendredi 28 mars 10h – 19h30\n– Samedi 29 mars 10h – 19h30\n– Dimanche 30 mars 10h – 18h \nVous pouvez proposer vos disponibilités sur un ou plusieurs créneau(x) par mail kravmaganormand{a}gmail.com \n 
URL:https://kravmaga-teamrg.com/evenements/foire-de-rouen-2026-village-sport-pour-tous/
LOCATION:Rouen\, ROUEN
CATEGORIES:DÉMONSTRATION / ANIMATION
ATTACH;FMTTYPE=image/png:https://kravmaga-teamrg.com/wp-content/uploads/2026/03/FDR-METROPOLE-metro-1024x768px-300dpi-1024x768-1.png
END:VEVENT
END:VCALENDAR