BEGIN:VCALENDAR
VERSION:2.0
PRODID:-//Krav Maga Team RG - ECPv6.15.17//NONSGML v1.0//EN
CALSCALE:GREGORIAN
METHOD:PUBLISH
X-WR-CALNAME:Krav Maga Team RG
X-ORIGINAL-URL:https://kravmaga-teamrg.com
X-WR-CALDESC:Évènements pour Krav Maga Team RG
REFRESH-INTERVAL;VALUE=DURATION:PT1H
X-Robots-Tag:noindex
X-PUBLISHED-TTL:PT1H
BEGIN:VTIMEZONE
TZID:Europe/Paris
BEGIN:DAYLIGHT
TZOFFSETFROM:+0100
TZOFFSETTO:+0200
TZNAME:CEST
DTSTART:20250330T010000
END:DAYLIGHT
BEGIN:STANDARD
TZOFFSETFROM:+0200
TZOFFSETTO:+0100
TZNAME:CET
DTSTART:20251026T010000
END:STANDARD
BEGIN:DAYLIGHT
TZOFFSETFROM:+0100
TZOFFSETTO:+0200
TZNAME:CEST
DTSTART:20260329T010000
END:DAYLIGHT
BEGIN:STANDARD
TZOFFSETFROM:+0200
TZOFFSETTO:+0100
TZNAME:CET
DTSTART:20261025T010000
END:STANDARD
BEGIN:DAYLIGHT
TZOFFSETFROM:+0100
TZOFFSETTO:+0200
TZNAME:CEST
DTSTART:20270328T010000
END:DAYLIGHT
BEGIN:STANDARD
TZOFFSETFROM:+0200
TZOFFSETTO:+0100
TZNAME:CET
DTSTART:20271031T010000
END:STANDARD
END:VTIMEZONE
BEGIN:VEVENT
DTSTART;TZID=Europe/Paris:20260214T080000
DTEND;TZID=Europe/Paris:20260308T170000
DTSTAMP:20260424T141714
CREATED:20260117T153922Z
LAST-MODIFIED:20260203T171655Z
UID:18828-1771056000-1772989200@kravmaga-teamrg.com
SUMMARY:Infos Vacances de février 2026
DESCRIPTION:Voici les informations du maintien des cours durant les vacances de février 2026. \nZONE B : tous les clubs de l’Eure\, Orne\, Seine-Maritime\nDate officielle des vacances scolaires : du samedi 14 février au dim 1er mars 2026. \nCours ados et enfants : pas de cours durant les vacances (mais il y a bien cours le samedi 14 février). Les ados sont les bienvenus sur les cours adultes durant la 1ère semaine. \nCours adultes : \n\ncours maintenus la 1ère semaine\, du sam 14 au vendredi 20 février inclus. \npas de cours du lundi 23 au samedi 28 fév.\nReprise le lundi 1er mars.\n\nAttention : pas de cours à Rouen St Sever et Sotteville (ces structures sont fermées durant les vacances).\nSection féminine : pas de cours à Vernon et Evreux durant les vacances. \n———————————– \nZONE C : Buchelay\, Bonnières\nDate officielle des vacances scolaires : du samedi 21 fév  au dim 8 mars \nATTENTION ! Exceptionnellement nous allons faire cours la 2è semaine des vacances (et pas la 1ère)\, afin de coïncider avec la zone B. \nCours ados et enfants : pas de cours durant les vacances; Les ados sont les bienvenus sur les cours adultes durant la 2è semaine (donc mercredi 4 mars) \nCours adultes : \n\ncours maintenus le samedi 21 février\, mercredi 4 mars et samedi 7 mars.\npas de cours le mercredi 25 février et samedi 28 février.
URL:https://kravmaga-teamrg.com/evenements/infos-vacances-de-fevrier-2026/
CATEGORIES:DÉMONSTRATION / ANIMATION
ATTACH;FMTTYPE=image/jpeg:https://kravmaga-teamrg.com/wp-content/uploads/2026/01/vacances-scolaires-fev-2025-1.jpg
END:VEVENT
END:VCALENDAR